BEGIN:VCALENDAR
VERSION:2.0
PRODID:-//Place au Vélo - Les Maines - ECPv6.15.18//NONSGML v1.0//EN
CALSCALE:GREGORIAN
METHOD:PUBLISH
X-WR-CALNAME:Place au Vélo - Les Maines
X-ORIGINAL-URL:https://placeauvelo-lesmaines.fr
X-WR-CALDESC:Évènements pour Place au Vélo - Les Maines
REFRESH-INTERVAL;VALUE=DURATION:PT1H
X-Robots-Tag:noindex
X-PUBLISHED-TTL:PT1H
BEGIN:VTIMEZONE
TZID:Europe/Paris
BEGIN:DAYLIGHT
TZOFFSETFROM:+0100
TZOFFSETTO:+0200
TZNAME:CEST
DTSTART:20230326T010000
END:DAYLIGHT
BEGIN:STANDARD
TZOFFSETFROM:+0200
TZOFFSETTO:+0100
TZNAME:CET
DTSTART:20231029T010000
END:STANDARD
BEGIN:DAYLIGHT
TZOFFSETFROM:+0100
TZOFFSETTO:+0200
TZNAME:CEST
DTSTART:20240331T010000
END:DAYLIGHT
BEGIN:STANDARD
TZOFFSETFROM:+0200
TZOFFSETTO:+0100
TZNAME:CET
DTSTART:20241027T010000
END:STANDARD
BEGIN:DAYLIGHT
TZOFFSETFROM:+0100
TZOFFSETTO:+0200
TZNAME:CEST
DTSTART:20250330T010000
END:DAYLIGHT
BEGIN:STANDARD
TZOFFSETFROM:+0200
TZOFFSETTO:+0100
TZNAME:CET
DTSTART:20251026T010000
END:STANDARD
END:VTIMEZONE
BEGIN:VEVENT
DTSTART;TZID=Europe/Paris:20240315T193000
DTEND;TZID=Europe/Paris:20240315T210000
DTSTAMP:20260419T142822
CREATED:20240213T101538Z
LAST-MODIFIED:20250720T212617Z
UID:343-1710531000-1710536400@placeauvelo-lesmaines.fr
SUMMARY:Balade des Lucioles 2eme édition
DESCRIPTION:Nous organisons la 2eme édition de la balade des lucioles. Le rendez-vous est donné place du Champ de Foire à Montaigu avec un circuit  de 12 km qui nous emmènera vers Saint Hilaire de Loulay. Le rythme est doux pour permettre aux enfants et aux moins sportifs de suivre sans difficultés.  \n\n\n\nLe principe de cette balade est de se rendre le plus visible possible avec tous les accessoires que vous pouvez trouver qui font de la lumière\, réfléchissant ou fluorescents.  \n\n\n\nVoici un petit article sur notre première édition.
URL:https://placeauvelo-lesmaines.fr/event/balade-nocturne-a-velo/
CATEGORIES:Balade,Lucioles
END:VEVENT
END:VCALENDAR